BEGIN:VCALENDAR
VERSION:2.0
PRODID:-//Uncle Tony&#039;s Pizza &amp; Pasta | Family Style Restaurants - ECPv6.9.0//NONSGML v1.0//EN
CALSCALE:GREGORIAN
METHOD:PUBLISH
X-ORIGINAL-URL:https://uncletonys.com
X-WR-CALDESC:Events for Uncle Tony&#039;s Pizza &amp; Pasta | Family Style Restaurants
REFRESH-INTERVAL;VALUE=DURATION:PT1H
X-Robots-Tag:noindex
X-PUBLISHED-TTL:PT1H
BEGIN:VTIMEZONE
TZID:UTC
BEGIN:STANDARD
TZOFFSETFROM:+0000
TZOFFSETTO:+0000
TZNAME:UTC
DTSTART:20230101T000000
END:STANDARD
END:VTIMEZONE
BEGIN:VEVENT
DTSTART;VALUE=DATE:20231124
DTEND;VALUE=DATE:20240102
DTSTAMP:20260420T100303
CREATED:20230715T035242Z
LAST-MODIFIED:20231124T004942Z
UID:1464-1700784000-1704153599@uncletonys.com
SUMMARY:CHRISTMAS GIFT CARD SPECIAL
DESCRIPTION:BUY $50 IN GIFT CARDS AND RECEIVE A FREE $10 GIFT CARD ON US!\nONLY AVAILABLE FOR A LIMITED TIME
URL:https://uncletonys.com/special/christmas-in-july-gift-card-special/
LOCATION:Cranston\, 1455 Oaklawn Ave\, Cranston\, RI\, 02920\, United States
CATEGORIES:Cranston
ATTACH;FMTTYPE=image/jpeg:https://uncletonys.com/wp-content/uploads/2023/07/CardPromoUTs-1.jpg
END:VEVENT
END:VCALENDAR