BEGIN:VCALENDAR
VERSION:2.0
PRODID:-//Uncle Tony&#039;s Pizza &amp; Pasta | Family Style Restaurants - ECPv6.9.0//NONSGML v1.0//EN
CALSCALE:GREGORIAN
METHOD:PUBLISH
X-WR-CALNAME:Uncle Tony&#039;s Pizza &amp; Pasta | Family Style Restaurants
X-ORIGINAL-URL:https://uncletonys.com
X-WR-CALDESC:Events for Uncle Tony&#039;s Pizza &amp; Pasta | Family Style Restaurants
REFRESH-INTERVAL;VALUE=DURATION:PT1H
X-Robots-Tag:noindex
X-PUBLISHED-TTL:PT1H
BEGIN:VTIMEZONE
TZID:UTC
BEGIN:STANDARD
TZOFFSETFROM:+0000
TZOFFSETTO:+0000
TZNAME:UTC
DTSTART:20230101T000000
END:STANDARD
END:VTIMEZONE
BEGIN:VEVENT
DTSTART;VALUE=DATE:20231129
DTEND;VALUE=DATE:20231204
DTSTAMP:20260421T154010
CREATED:20230719T183750Z
LAST-MODIFIED:20231127T183736Z
UID:1476-1701216000-1701647999@uncletonys.com
SUMMARY:BAKED GNOCCHI
DESCRIPTION:Fresh gnocchi blended with our famous meat sauce and ricotta cheese. Then covered with mozzarella cheese and baked to perfection.  Served with soup OR salad.
URL:https://uncletonys.com/special/baked-gnocchi/
LOCATION:Cranston\, 1455 Oaklawn Ave\, Cranston\, RI\, 02920\, United States
CATEGORIES:Cranston
ATTACH;FMTTYPE=image/jpeg:https://uncletonys.com/wp-content/uploads/2023/07/Bk-Gnocchi.jpg
END:VEVENT
BEGIN:VEVENT
DTSTART;VALUE=DATE:20231130
DTEND;VALUE=DATE:20231204
DTSTAMP:20260421T154010
CREATED:20230525T002152Z
LAST-MODIFIED:20231128T210636Z
UID:1361-1701302400-1701647999@uncletonys.com
SUMMARY:SHRIMP & SCALLOPS WITH BOW TIES
DESCRIPTION:Fresh shrimp & scallops sautéed with bow tie noodles in a tomato & basil pink sauce.  Served with soup OR salad.
URL:https://uncletonys.com/special/shrimp-scallops-with-bow-ties-3/
LOCATION:Cranston\, 1455 Oaklawn Ave\, Cranston\, RI\, 02920\, United States
CATEGORIES:Cranston
ATTACH;FMTTYPE=image/jpeg:https://uncletonys.com/wp-content/uploads/2023/02/176-Shrimp-Scallops-with-Bow-Ties-scaled.jpg
END:VEVENT
BEGIN:VEVENT
DTSTART;VALUE=DATE:20231206
DTEND;VALUE=DATE:20231211
DTSTAMP:20260421T154010
CREATED:20230322T003728Z
LAST-MODIFIED:20231204T175816Z
UID:1169-1701820800-1702252799@uncletonys.com
SUMMARY:GRILLED HERB CHICKEN WITH BOW TIES
DESCRIPTION:Fresh chicken\, marinated in Italian herb vinaigrette dressing\, cooked on the grill. Sautéed with fresh bow tie noodles in a tomato & basil pink sauce.  Served with soup OR salad.
URL:https://uncletonys.com/special/grilled-herb-chicken-with-bow-ties/
LOCATION:Cranston\, 1455 Oaklawn Ave\, Cranston\, RI\, 02920\, United States
CATEGORIES:Cranston
ATTACH;FMTTYPE=image/jpeg:https://uncletonys.com/wp-content/uploads/2023/02/194-Gr.-Herb-Chic.-Bow-Ties-scaled.jpg
END:VEVENT
BEGIN:VEVENT
DTSTART;VALUE=DATE:20231207
DTEND;VALUE=DATE:20231211
DTSTAMP:20260421T154010
CREATED:20230622T111001Z
LAST-MODIFIED:20231204T180014Z
UID:1170-1701907200-1702252799@uncletonys.com
SUMMARY:MAC 'N' CHEESE BITES
DESCRIPTION:Golden brown breaded macaroni and cheese bites\, served with our famous sauce.
URL:https://uncletonys.com/special/mac-n-cheese-bites/
LOCATION:Cranston\, 1455 Oaklawn Ave\, Cranston\, RI\, 02920\, United States
CATEGORIES:Cranston
ATTACH;FMTTYPE=image/jpeg:https://uncletonys.com/wp-content/uploads/2023/03/160-Mac-n-Cheese-BItes-1.jpg
END:VEVENT
END:VCALENDAR