BEGIN:VCALENDAR
VERSION:2.0
PRODID:-//Uncle Tony&#039;s Pizza &amp; Pasta | Family Style Restaurants - ECPv6.9.0//NONSGML v1.0//EN
CALSCALE:GREGORIAN
METHOD:PUBLISH
X-WR-CALNAME:Uncle Tony&#039;s Pizza &amp; Pasta | Family Style Restaurants
X-ORIGINAL-URL:https://uncletonys.com
X-WR-CALDESC:Events for Uncle Tony&#039;s Pizza &amp; Pasta | Family Style Restaurants
REFRESH-INTERVAL;VALUE=DURATION:PT1H
X-Robots-Tag:noindex
X-PUBLISHED-TTL:PT1H
BEGIN:VTIMEZONE
TZID:UTC
BEGIN:STANDARD
TZOFFSETFROM:+0000
TZOFFSETTO:+0000
TZNAME:UTC
DTSTART:20250101T000000
END:STANDARD
END:VTIMEZONE
BEGIN:VEVENT
DTSTART;TZID=UTC:20251224T110000
DTEND;TZID=UTC:20271231T210000
DTSTAMP:20260421T102658
CREATED:20251224T100000Z
LAST-MODIFIED:20251230T023256Z
UID:538-1766574000-1830286800@uncletonys.com
SUMMARY:LOBSTER\, SHRIMP & SCALLOPS IN A PINK ALFREDO SAUCE
DESCRIPTION:Lobster\, shrimp and scallops in a pink Alfredo sauce served over fresh fettuccine.\nWith soup or salad.  Market Price
URL:https://uncletonys.com/special/lobster-shrimp-scallops-in-a-pink-alfredo-sauce/
CATEGORIES:E.Providence
ATTACH;FMTTYPE=image/jpeg:https://uncletonys.com/wp-content/uploads/2023/01/lobstalighter.jpg
END:VEVENT
BEGIN:VEVENT
DTSTART;TZID=UTC:20251224T110000
DTEND;TZID=UTC:20271128T210000
DTSTAMP:20260421T102658
CREATED:20251224T100041Z
LAST-MODIFIED:20251222T032116Z
UID:628-1766574000-1827435600@uncletonys.com
SUMMARY:BAKED SEAFOOD PLATTER
DESCRIPTION:A medley of fresh cod\, sea scallops and shrimp\, baked in a lemon butter crumb topping\, with pasta\, veggies or fries & soup or salad.  Market Price.
URL:https://uncletonys.com/special/baked-seafood-platter-2/
LOCATION:East Providence\, 260 Newport Ave\, Rumford\, 02916\, United States
CATEGORIES:E.Providence
ATTACH;FMTTYPE=image/jpeg:https://uncletonys.com/wp-content/uploads/2023/01/baked-seafood-platter.jpg
END:VEVENT
BEGIN:VEVENT
DTSTART;TZID=UTC:20251224T110000
DTEND;TZID=UTC:20271202T210000
DTSTAMP:20260421T102658
CREATED:20251224T120025Z
LAST-MODIFIED:20251222T031958Z
UID:626-1766574000-1827781200@uncletonys.com
SUMMARY:BAKED SEA SCALLOPS
DESCRIPTION:Giant North Atlantic sea scallops baked with a lemon butter crumb topping.\nComes with pasta\, veggies or fries & soup or salad. Market Price.
URL:https://uncletonys.com/special/specials-test-2-2-2/
LOCATION:East Providence\, 260 Newport Ave\, Rumford\, 02916\, United States
CATEGORIES:E.Providence
ATTACH;FMTTYPE=image/jpeg:https://uncletonys.com/wp-content/uploads/2022/10/Baked-Scallops.jpg
END:VEVENT
BEGIN:VEVENT
DTSTART;TZID=UTC:20260107T080000
DTEND;TZID=UTC:20271109T210000
DTSTAMP:20260421T102658
CREATED:20260107T100019Z
LAST-MODIFIED:20251230T024553Z
UID:604-1767772800-1825794000@uncletonys.com
SUMMARY:SHAVED STEAK SANDWICH
DESCRIPTION:Lean Shaved Steak with grilled mushrooms and onions and choice of cheese\, on a toasted roll.
URL:https://uncletonys.com/special/shaved-steak-sandwich/
LOCATION:East Providence\, 260 Newport Ave\, Rumford\, 02916\, United States
CATEGORIES:E.Providence
ATTACH;FMTTYPE=image/jpeg:https://uncletonys.com/wp-content/uploads/2026/01/steak-sandcheese-scaled.jpg
END:VEVENT
BEGIN:VEVENT
DTSTART;TZID=UTC:20260318T080000
DTEND;TZID=UTC:20260322T210000
DTSTAMP:20260421T102658
CREATED:20260318T100004Z
LAST-MODIFIED:20260210T022648Z
UID:681-1773820800-1774213200@uncletonys.com
SUMMARY:CHICKEN MILANESE
DESCRIPTION:Fresh golden brown\, chicken cutlets baked in a mushroom cream sauce\,\nwith fresh mushrooms and mozzarella cheese.\nServed with pasta\, veggies or fries & soup or salad.  $17.95\n 
URL:https://uncletonys.com/special/chicken-milanese/
CATEGORIES:E.Providence
ATTACH;FMTTYPE=image/jpeg:https://uncletonys.com/wp-content/uploads/2023/02/Chix-Mil-edited-scaled.jpg
END:VEVENT
BEGIN:VEVENT
DTSTART;TZID=UTC:20260318T110000
DTEND;TZID=UTC:20260322T210000
DTSTAMP:20260421T102658
CREATED:20260318T100002Z
LAST-MODIFIED:20260217T175847Z
UID:540-1773831600-1774213200@uncletonys.com
SUMMARY:BAKED SCROD FLORENTINE
DESCRIPTION:  \n\nFresh cod stuffed with marinated spinach & olives plus shrimp & scallops\, with a lemon butter cracker crumb topping.\nServed with pasta\, veggies or fries & soup or salad.   $18.95
URL:https://uncletonys.com/special/baked-scrod-florentine/
CATEGORIES:E.Providence
ATTACH;FMTTYPE=image/jpeg:https://uncletonys.com/wp-content/uploads/2023/02/Scrod-Flo-scaled.jpg
END:VEVENT
BEGIN:VEVENT
DTSTART;TZID=UTC:20260318T110000
DTEND;TZID=UTC:20260322T210000
DTSTAMP:20260421T102658
CREATED:20260318T100019Z
LAST-MODIFIED:20260210T022808Z
UID:684-1773831600-1774213200@uncletonys.com
SUMMARY:LOADED BAKED POTATO GOURMET PIZZA
DESCRIPTION:Potato\, bacon\, chives and cheese on our traditional dough.\nWith a side of sour cream.  $16.50
URL:https://uncletonys.com/special/loaded-baked-potato-gourmet-pizza/
CATEGORIES:E.Providence
ATTACH;FMTTYPE=image/jpeg:https://uncletonys.com/wp-content/uploads/2023/02/20-pizza-loaded-baked-potato.jpg
END:VEVENT
BEGIN:VEVENT
DTSTART;TZID=UTC:20260318T110000
DTEND;TZID=UTC:20260322T210000
DTSTAMP:20260421T102658
CREATED:20260318T100059Z
LAST-MODIFIED:20260210T022900Z
UID:683-1773831600-1774213200@uncletonys.com
SUMMARY:PENNE with BROCCOLI AGLIO OLIO
DESCRIPTION:Penne macaroni topped with fresh broccoli sauteed with red roasted peppers\nand black olives in a garlic and oil sauce.  Served with soup or salad.   $16.95
URL:https://uncletonys.com/special/penne-with-broccoli-aglio-olio/
CATEGORIES:E.Providence
ATTACH;FMTTYPE=image/jpeg:https://uncletonys.com/wp-content/uploads/2023/02/Pasta-Brocalioeolio-e1676300774123.jpg
END:VEVENT
END:VCALENDAR